BEGIN:VCALENDAR
VERSION:2.0
PRODID:-//Maardu Kultuuri- ja Infokeskus - ECPv4.6.12//NONSGML v1.0//EN
CALSCALE:GREGORIAN
METHOD:PUBLISH
X-WR-CALNAME:Maardu Kultuuri- ja Infokeskus
X-ORIGINAL-URL:https://mkik.ee/ru
X-WR-CALDESC:Events for Maardu Kultuuri- ja Infokeskus
BEGIN:VEVENT
DTSTART;TZID=UTC+3:20210113T180000
DTEND;TZID=UTC+3:20210113T180000
DTSTAMP:20260421T093521
CREATED:20210108T105018Z
LAST-MODIFIED:20210108T105018Z
UID:2427-1610560800-1610560800@mkik.ee
SUMMARY:Концерт к Старому новому году
DESCRIPTION: \n13 января в 18:00 приглашаем вас посмотреть прямую трансляцию концерта к Старому новому году. \nНа концерте выступят представители «Белорусского общества «Ялинка»\, семейный ансамбль Зотович и украинское общество «Ятрань»\, которые расскажут о традициях празднования Старого нового года в Беларуси и в Украине\, а также исполнят традиционные народные песни. \nТрансляцию можно посмотреть на нашей страничке в Facebook и на сайте www.mkik.ee. \n
URL:https://mkik.ee/ru/event/vana-uusaasta-online-kontsert/
ATTACH;FMTTYPE=image/png:https://mkik.ee/wp-content/uploads/2021/01/Online-концерт-на-Старый-новый-год.png
END:VEVENT
END:VCALENDAR