BEGIN:VCALENDAR
VERSION:2.0
PRODID:-//Maardu Kultuuri- ja Infokeskus - ECPv4.6.12//NONSGML v1.0//EN
CALSCALE:GREGORIAN
METHOD:PUBLISH
X-WR-CALNAME:Maardu Kultuuri- ja Infokeskus
X-ORIGINAL-URL:https://mkik.ee/ru
X-WR-CALDESC:Events for Maardu Kultuuri- ja Infokeskus
BEGIN:VEVENT
DTSTART;TZID=UTC+3:20241203T140000
DTEND;TZID=UTC+3:20241203T140000
DTSTAMP:20260424T164714
CREATED:20241127T105643Z
LAST-MODIFIED:20241127T125657Z
UID:3037-1733234400-1733234400@mkik.ee
SUMMARY:Зимний концерт для пенсионеров
DESCRIPTION: \n
URL:https://mkik.ee/ru/event/talvekontsert/
CATEGORIES:Event
ATTACH;FMTTYPE=image/jpeg:https://mkik.ee/wp-content/uploads/2024/11/Foto2012-1-1.jpg
END:VEVENT
END:VCALENDAR