BEGIN:VCALENDAR
VERSION:2.0
PRODID:-//Maardu Kultuuri- ja Infokeskus - ECPv4.6.12//NONSGML v1.0//EN
CALSCALE:GREGORIAN
METHOD:PUBLISH
X-WR-CALNAME:Maardu Kultuuri- ja Infokeskus
X-ORIGINAL-URL:https://mkik.ee/ru
X-WR-CALDESC:Events for Maardu Kultuuri- ja Infokeskus
BEGIN:VEVENT
DTSTART;TZID=UTC+3:20230417T160000
DTEND;TZID=UTC+3:20230417T160000
DTSTAMP:20260424T184122
CREATED:20230410T131710Z
LAST-MODIFIED:20230412T115810Z
UID:2826-1681747200-1681747200@mkik.ee
SUMMARY:передвижная выставка «Дыхание времени»
DESCRIPTION:Извините\, этот техт доступен только в “Эстонский”. \n
URL:https://mkik.ee/ru/event/randnaitus-aja-hingus/
END:VEVENT
END:VCALENDAR