BEGIN:VCALENDAR
VERSION:2.0
PRODID:-//Maardu Kultuuri- ja Infokeskus - ECPv4.6.12//NONSGML v1.0//EN
CALSCALE:GREGORIAN
METHOD:PUBLISH
X-WR-CALNAME:Maardu Kultuuri- ja Infokeskus
X-ORIGINAL-URL:https://mkik.ee/ru
X-WR-CALDESC:Events for Maardu Kultuuri- ja Infokeskus
BEGIN:VEVENT
DTSTART;TZID=UTC+0:20200215T140000
DTEND;TZID=UTC+0:20200215T140000
DTSTAMP:20260424T122454
CREATED:20200110T121828Z
LAST-MODIFIED:20200114T043022Z
UID:2056-1581775200-1581775200@mkik.ee
SUMMARY:Отборочный тур на международный конкурс «Славянский базар в Витебске»
DESCRIPTION: \n15 февраля в Mаардуском Центре Культуры и Информации пройдёт Эстонский отборочный тур конкурса исполнителей эстрадной песни «Славянский Базар в Витебске-2020». К участию в конкурсе приглашаются исполнители эстрадной песни\, имеющие опыт концертных выступлений\, заявившие о себе своими успехами в музыкальных конкурсах и фестивалях. Возраст участников: взрослые- от 18 до 31 года\, дети от 8 до 14 лет включительно. Основная цель отборочного тура- выявление лучших исполнителей для достойного представления Эстонии на XXIX Международном фестивале искусств «Славянский Базар в Витебске — 2020». \nСкачать: \nПоложение для участников конкурса для взрослых эстрадных вокалистов \nПоложение для участников детского конкурса \nРегистрационный лист для участников детского конкурса \nРегистрационный лист для участников конкурса взрослых эстрадных вокалистов \n
URL:https://mkik.ee/ru/event/rahvusvahelise-konkursi-slavjanski-bazar-v-vitebske-eelvoor/
END:VEVENT
END:VCALENDAR