BEGIN:VCALENDAR
VERSION:2.0
PRODID:-//Maardu Kultuuri- ja Infokeskus - ECPv4.6.12//NONSGML v1.0//EN
CALSCALE:GREGORIAN
METHOD:PUBLISH
X-WR-CALNAME:Maardu Kultuuri- ja Infokeskus
X-ORIGINAL-URL:https://mkik.ee/ru
X-WR-CALDESC:Events for Maardu Kultuuri- ja Infokeskus
BEGIN:VEVENT
DTSTART;TZID=UTC+3:20200711T110000
DTEND;TZID=UTC+3:20200711T110000
DTSTAMP:20260425T141340
CREATED:20200629T130747Z
LAST-MODIFIED:20200629T130747Z
UID:2319-1594465200-1594465200@mkik.ee
SUMMARY:Международный фестиваль Maardu F Eestis
DESCRIPTION: \n  \n
URL:https://mkik.ee/ru/event/rahvusvaheline-festival-maardu-f-eestis/
END:VEVENT
END:VCALENDAR