BEGIN:VCALENDAR
VERSION:2.0
PRODID:-//Maardu Kultuuri- ja Infokeskus - ECPv4.6.12//NONSGML v1.0//EN
CALSCALE:GREGORIAN
METHOD:PUBLISH
X-WR-CALNAME:Maardu Kultuuri- ja Infokeskus
X-ORIGINAL-URL:https://mkik.ee/ru
X-WR-CALDESC:Events for Maardu Kultuuri- ja Infokeskus
BEGIN:VEVENT
DTSTART;TZID=UTC+3:20240414T140000
DTEND;TZID=UTC+3:20240414T170000
DTSTAMP:20260424T181431
CREATED:20240409T113804Z
LAST-MODIFIED:20240409T113804Z
UID:2952-1713103200-1713114000@mkik.ee
SUMMARY:Венок Народных песен
DESCRIPTION: \n
URL:https://mkik.ee/ru/event/rahvalaulude-parg/
END:VEVENT
END:VCALENDAR