BEGIN:VCALENDAR
VERSION:2.0
PRODID:-//Maardu Kultuuri- ja Infokeskus - ECPv4.6.12//NONSGML v1.0//EN
CALSCALE:GREGORIAN
METHOD:PUBLISH
X-WR-CALNAME:Maardu Kultuuri- ja Infokeskus
X-ORIGINAL-URL:https://mkik.ee/ru
X-WR-CALDESC:Events for Maardu Kultuuri- ja Infokeskus
BEGIN:VEVENT
DTSTART;TZID=UTC+3:20220528T140000
DTEND;TZID=UTC+3:20220528T140000
DTSTAMP:20260424T154645
CREATED:20220427T105031Z
LAST-MODIFIED:20220503T073713Z
UID:2667-1653746400-1653746400@mkik.ee
SUMMARY:Праздник поколений
DESCRIPTION: \n
URL:https://mkik.ee/ru/event/polvkondade-pidu/
END:VEVENT
END:VCALENDAR