BEGIN:VCALENDAR
VERSION:2.0
PRODID:-//Maardu Kultuuri- ja Infokeskus - ECPv4.6.12//NONSGML v1.0//EN
CALSCALE:GREGORIAN
METHOD:PUBLISH
X-WR-CALNAME:Maardu Kultuuri- ja Infokeskus
X-ORIGINAL-URL:https://mkik.ee/ru
X-WR-CALDESC:Events for Maardu Kultuuri- ja Infokeskus
BEGIN:VEVENT
DTSTART;TZID=UTC+3:20220224T073200
DTEND;TZID=UTC+3:20220224T073200
DTSTAMP:20260422T113734
CREATED:20220125T115041Z
LAST-MODIFIED:20220125T120539Z
UID:2603-1645687920-1645687920@mkik.ee
SUMMARY:Торжественное поднятие флага
DESCRIPTION: \n
URL:https://mkik.ee/ru/event/pidulik-riigilipu-heiskamine/
ATTACH;FMTTYPE=image/jpeg:https://mkik.ee/wp-content/uploads/2022/01/Ekran_1200x800_RUS.jpg
END:VEVENT
END:VCALENDAR