BEGIN:VCALENDAR
VERSION:2.0
PRODID:-//Maardu Kultuuri- ja Infokeskus - ECPv4.6.12//NONSGML v1.0//EN
CALSCALE:GREGORIAN
METHOD:PUBLISH
X-WR-CALNAME:Maardu Kultuuri- ja Infokeskus
X-ORIGINAL-URL:https://mkik.ee/ru
X-WR-CALDESC:Events for Maardu Kultuuri- ja Infokeskus
BEGIN:VEVENT
DTSTART;TZID=UTC+3:20220308T160000
DTEND;TZID=UTC+3:20220308T160000
DTSTAMP:20260424T082437
CREATED:20220228T140212Z
LAST-MODIFIED:20220228T140212Z
UID:2641-1646755200-1646755200@mkik.ee
SUMMARY:Концерт к Международному женскому дню
DESCRIPTION: \n
URL:https://mkik.ee/ru/event/naistepaeva-kontsert/
ATTACH;FMTTYPE=image/png:https://mkik.ee/wp-content/uploads/2022/02/1.png
END:VEVENT
END:VCALENDAR