BEGIN:VCALENDAR
VERSION:2.0
PRODID:-//Maardu Kultuuri- ja Infokeskus - ECPv4.6.12//NONSGML v1.0//EN
CALSCALE:GREGORIAN
METHOD:PUBLISH
X-WR-CALNAME:Maardu Kultuuri- ja Infokeskus
X-ORIGINAL-URL:https://mkik.ee/ru
X-WR-CALDESC:Events for Maardu Kultuuri- ja Infokeskus
BEGIN:VEVENT
DTSTART;TZID=UTC+3:20200609T160000
DTEND;TZID=UTC+3:20200609T160000
DTSTAMP:20260425T203257
CREATED:20200605T104806Z
LAST-MODIFIED:20200605T104806Z
UID:2297-1591718400-1591718400@mkik.ee
SUMMARY:MKIK Live: вокальная студия "Эридан"
DESCRIPTION: \nКонцерт Маардуского центра культуры и информации. \nВыступает вокальная студия «Эридан». \nСмотрите прямую трансляцию по ссылке: https://www.facebook.com/maardukultuur/ \n
URL:https://mkik.ee/ru/event/mkik-live-vokaalstuudio-eridan/
END:VEVENT
END:VCALENDAR