BEGIN:VCALENDAR
VERSION:2.0
PRODID:-//Maardu Kultuuri- ja Infokeskus - ECPv4.6.12//NONSGML v1.0//EN
CALSCALE:GREGORIAN
METHOD:PUBLISH
X-WR-CALNAME:Maardu Kultuuri- ja Infokeskus
X-ORIGINAL-URL:https://mkik.ee/ru
X-WR-CALDESC:Events for Maardu Kultuuri- ja Infokeskus
BEGIN:VEVENT
DTSTART;TZID=UTC+3:20200528T160000
DTEND;TZID=UTC+3:20200528T160000
DTSTAMP:20260425T232620
CREATED:20200519T080938Z
LAST-MODIFIED:20200519T080938Z
UID:2272-1590681600-1590681600@mkik.ee
SUMMARY:MKIK Live: вокальная студия "DeLight"
DESCRIPTION: \nКонцерт Маардуского центра культуры и информации. \nВыступает вокальная студия «DeLight». \nСмотрите прямую трансляцию по ссылке: https://www.facebook.com/maardukultuur/ \n
URL:https://mkik.ee/ru/event/mkik-live-vokaalstuudio-delight/
END:VEVENT
END:VCALENDAR