BEGIN:VCALENDAR
VERSION:2.0
PRODID:-//Maardu Kultuuri- ja Infokeskus - ECPv4.6.12//NONSGML v1.0//EN
CALSCALE:GREGORIAN
METHOD:PUBLISH
X-WR-CALNAME:Maardu Kultuuri- ja Infokeskus
X-ORIGINAL-URL:https://mkik.ee/ru
X-WR-CALDESC:Events for Maardu Kultuuri- ja Infokeskus
BEGIN:VEVENT
DTSTART;TZID=UTC+3:20210307T160000
DTEND;TZID=UTC+3:20210307T160000
DTSTAMP:20260421T115913
CREATED:20210304T111103Z
LAST-MODIFIED:20210304T111103Z
UID:2470-1615132800-1615132800@mkik.ee
SUMMARY:MKIK Live: Концерт к Международному женскому дню
DESCRIPTION: \nКаждый год 8 марта мы отмечаем Международный женский день\, дарим женщинам цветы и готовим приятные сюрпризы и подарки. В этом году на сцене Маардуского центра досуга для прекрасной половины человечества выступят Петр Зотович и Сергей Маасин! Концерт пройдет 7 марта в 16.00. До встречи в прямом эфире: \nwww.mkik.ee\nfb.me/maardukultuur \n
URL:https://mkik.ee/ru/event/mkik-live-naistepaeva-kontsert/
ATTACH;FMTTYPE=image/png:https://mkik.ee/wp-content/uploads/2021/03/MKIK-Live.png
END:VEVENT
END:VCALENDAR