BEGIN:VCALENDAR
VERSION:2.0
PRODID:-//Maardu Kultuuri- ja Infokeskus - ECPv4.6.12//NONSGML v1.0//EN
CALSCALE:GREGORIAN
METHOD:PUBLISH
X-WR-CALNAME:Maardu Kultuuri- ja Infokeskus
X-ORIGINAL-URL:https://mkik.ee/ru
X-WR-CALDESC:Events for Maardu Kultuuri- ja Infokeskus
BEGIN:VEVENT
DTSTART;TZID=UTC+3:20220402T170000
DTEND;TZID=UTC+3:20220402T170000
DTSTAMP:20260424T130825
CREATED:20220328T082018Z
LAST-MODIFIED:20220328T082018Z
UID:2650-1648918800-1648918800@mkik.ee
SUMMARY:Творческий вечер Марины Островской
DESCRIPTION:Т \n
URL:https://mkik.ee/ru/event/marina-ostrovskaja-loominguline-ohtu/
ATTACH;FMTTYPE=image/jpeg:https://mkik.ee/wp-content/uploads/2022/03/2-scaled.jpg
END:VEVENT
END:VCALENDAR