BEGIN:VCALENDAR
VERSION:2.0
PRODID:-//Maardu Kultuuri- ja Infokeskus - ECPv4.6.12//NONSGML v1.0//EN
CALSCALE:GREGORIAN
METHOD:PUBLISH
X-WR-CALNAME:Maardu Kultuuri- ja Infokeskus
X-ORIGINAL-URL:https://mkik.ee/ru
X-WR-CALDESC:Events for Maardu Kultuuri- ja Infokeskus
BEGIN:VEVENT
DTSTART;TZID=UTC+3:20211001T170000
DTEND;TZID=UTC+3:20211001T170000
DTSTAMP:20260422T010349
CREATED:20210929T093634Z
LAST-MODIFIED:20211001T081822Z
UID:2548-1633107600-1633107600@mkik.ee
SUMMARY:Огни Маарду
DESCRIPTION:\n1 октября в парке Келламяэ состоится традиционный праздник музыки и света «Маардуские огни». В этот вечер у пруда зажгутся сотни свечей – у всех жителей города будет возможность провести время в уютной атмосфере в кругу семьи и друзей\, став частью музыкально-светового представления.\nСобытие знаменует проводы уходящего лета и начало осени. Для всех гостей мероприятия к завершению праздника приготовлен сюрприз – огненное шоу со спецэффектами.\nПрограмму откроет молодёжная инди-рок группа Around The Sun. Главная исполнительница вечера – певица Nika Marula.\nПрограмма:\n17:00 — 17:30 — Around The Sun\n17:45 — 18:00 — Техническая пауза\n18:00 — 18.15 – Театральная студия «Веер и Шпага»\n18:00 — 18:30 – Семейный ансамбль «Зотович»\n18:30 – Маргарита Кустинская и ученики\n19:00 — Nika Marula\n20:00 – Техническая пауза\n20:20 – Огненное шоу\n20:35 — Дискотека\n21:15 – Окончание\nNB! Организаторы оставляют за собой право делать изменения в программе!\n \n\n
URL:https://mkik.ee/ru/event/maardu-tuled/
END:VEVENT
END:VCALENDAR