BEGIN:VCALENDAR
VERSION:2.0
PRODID:-//Maardu Kultuuri- ja Infokeskus - ECPv4.6.12//NONSGML v1.0//EN
CALSCALE:GREGORIAN
METHOD:PUBLISH
X-WR-CALNAME:Maardu Kultuuri- ja Infokeskus
X-ORIGINAL-URL:https://mkik.ee/ru
X-WR-CALDESC:Events for Maardu Kultuuri- ja Infokeskus
BEGIN:VEVENT
DTSTART;TZID=UTC+3:20201204T100000
DTEND;TZID=UTC+3:20201204T100000
DTSTAMP:20260421T020458
CREATED:20201116T121228Z
LAST-MODIFIED:20201116T121247Z
UID:2398-1607076000-1607076000@mkik.ee
SUMMARY:Молодежная симуляция Маардуского горсобрания
DESCRIPTION:\n\nПриглашаем Маардускую молодежь от 14 до 26 участвовать в симуляционной игре Маардуского городского собрания\, которая пройдет 4 декабря в Маардуском центре досуга. \n\n\nПредварительная регистрация обязательна: https://forms.gle/fYk8ktLAasyJosaq9\n\n\n \n\n\nГородское собрание — представительный орган Маарду\, избираемый постоянными жителями местного самоуправления\, достигшими 16 лет (включая лиц без гражданства и граждан других стран). \n\n\n Депутаты горсобрания выбирают мэра города\, утверждают состав городского правительства и годовой бюджет. Принимают решения\, касающиеся образование\, культуры и социальной защиты и определяют направление развития города.\n\n\n \n\n\nПрограмма:\n\n\n \n\n\n09:30 – Приветственный кофе\n\n\n10:00 – Начало симуляции\, вводная часть\n\n\n10:30 – Формирование комиссий\n\n\n10:45 – Работа в комиссиях\n\n\n11:45 – Перерыв \n\n\n12:00 – Представление идей\n\n\n13:00 – Обед\, лоббистская работа\n\n\n14:00 – Обсуждение идей и голосование \n\n\n15:00 – Панельная дискуссия \n\n\n15:30 – Результаты голосования\n\n\n15:45 – Подведение итогов\n\n\n16:00 – Окончание симуляционной игры \n\n\n \n\n\nПодробнее о мероприятии:\n\n\nНа симуляционной игре участники поделятся на комиссии и\, работая в командах\, разработают молодежные предложения в “городской бюджет”. После работы в комиссиях участники представят идеи и поставят их на обсуждение и голосование. У участников будет право голоса и в финальный бюджет пройдут идеи\, которые получат 51% голосов. \n\n\nИдеи\, которые пройдут в финальный бюджет\, будут переданы городским властям. Эти идеи будут учитываться при составлении бюджета на 2021 год\, программы развития города и по желанию участников симуляционной игры их можно будет представить на конкурс «Сделаем город красивее 2021».\n\n\n \n\n\nКомиссии:\n\n\n\nКомиссия по вопросам образования и молодежной работы\n\n\nКомиссия по вопросам культуры и спорта\n\n\nКомиссия по вопросам городского хозяйства и окружающей среды\n\n\nКомиссия по вопросам социальной защиты и здравоохранения\n\n\nКомиссия по вопросам правопорядка \n\n\n\n \n\n\nРегистрация:\n\n\nЗарегистрироваться можно через Google-форму: https://forms.gle/fYk8ktLAasyJosaq9\n\n\n \n\n\nМеры безопасности:\n\n\nНа мероприятии рекомендуется носить маски и пользоваться антисептиком. Наличие масок и антисептика будет обеспечено со стороны организатора. \n\n\nЕсли чувствуете себя нехорошо\, то предупредите организаторов и оставайтесь дома. \n\n\nНа входе в Центр досуга волонтеры будут замерять температуру. \n\n\n \n\n\nОрганизаторы:\n\n\nМероприятие организовано молодежной организацией “Компас” при поддержке Маардуской горуправы\, Союза молодежных организаций\, Молодежного фонда участия и Департамента образования и молодежи. \n\n\n \n\n\nОрганизаторы оставляют за собой право делать изменения в программе\, а также перенести мероприятие\, если ситуация с COVID19 ухудшится.\n\n\n
URL:https://mkik.ee/ru/event/maardu-linnavolikogu-noortesimulatsioon/
END:VEVENT
END:VCALENDAR