BEGIN:VCALENDAR
VERSION:2.0
PRODID:-//Maardu Kultuuri- ja Infokeskus - ECPv4.6.12//NONSGML v1.0//EN
CALSCALE:GREGORIAN
METHOD:PUBLISH
X-WR-CALNAME:Maardu Kultuuri- ja Infokeskus
X-ORIGINAL-URL:https://mkik.ee/ru
X-WR-CALDESC:Events for Maardu Kultuuri- ja Infokeskus
BEGIN:VEVENT
DTSTART;TZID=UTC+3:20200718T130000
DTEND;TZID=UTC+3:20200718T130000
DTSTAMP:20260425T125953
CREATED:20200702T141101Z
LAST-MODIFIED:20200714T074418Z
UID:2328-1595077200-1595077200@mkik.ee
SUMMARY:Мероприятия Дня города Маарду
DESCRIPTION: \nНа юбилейной неделе в городе состоится вокально-танцевальный фестиваль Maardu-F-Eestis\, гала-концерт лучших исполнителей можно будет также посмотреть и в режиме онлайн 18 июля в 13:00 на сайте www.mkik.ee или на странице Центра культуры и информации в сети Facebook. \nПразднование 40-летнего юбилея Маарду завершится в субботу\, 18 июля\, мероприятиями для всей семьи\, который пройдут в Каллавере и Мууга. \nПраздник в Мууга начнется в 13:00 на детской площадке бульваре Вильяпуу. На сцене выступят как коллективы из города Маарду\, так и приглашенные артисты. Гостей праздника поприветствуют ростовые куклы – герои мультфильмов\, с которыми каждый желающий сможет сфотографироваться. Аниматоры и клоун будут развлекать детей и родителей конкурсами\, подвижными играми и интеллектуальными заданиями. На месте будут работать художники по аквагриму и глиттер-татуировкам. С цирковой программой выступит самый знаменитый акробат Эстонии Велло Вахер\, который покажет акробатические номера\, а также продемонстрирует мастерство жонглирования. На мероприятии можно будет приобрести сахарную вату\, напитки и мороженое. \nПраздник в Каллавере начнется в 14:00 рядом с торговым центром Пярли. Гостей ждут концерт детских талантов Маардуского народного дома\, шоу от аниматоров\, шоу от робота-трансформера\, аква-грим и временные татуировки\, мастер-класс по моделированию из воздушных шариков\, шоу мыльных пузырей\, химическое шоу\, дискотека шоу-красок «Холи»\, тир\, аркадные игры и бесплатный батут. В торговых точках можно будет приобрести сахарную вату и мороженое. \n
URL:https://mkik.ee/ru/event/maardu-linnapaeva-uritused/
END:VEVENT
END:VCALENDAR