BEGIN:VCALENDAR
VERSION:2.0
PRODID:-//Maardu Kultuuri- ja Infokeskus - ECPv4.6.12//NONSGML v1.0//EN
CALSCALE:GREGORIAN
METHOD:PUBLISH
X-WR-CALNAME:Maardu Kultuuri- ja Infokeskus
X-ORIGINAL-URL:https://mkik.ee/ru
X-WR-CALDESC:Events for Maardu Kultuuri- ja Infokeskus
BEGIN:VEVENT
DTSTART;TZID=UTC+3:20210717T110000
DTEND;TZID=UTC+3:20210717T110000
DTSTAMP:20260421T181557
CREATED:20210628T150506Z
LAST-MODIFIED:20210712T123625Z
UID:2508-1626519600-1626519600@mkik.ee
SUMMARY:День города Маарду
DESCRIPTION: \n17 июля состоится традиционное большое празднование Дня города Маарду.\nПраздник начнётся с общегородской зарядки на Маардуском городском стадионе в 10:00 (Karjääri 4) и Парад детского транспорта в 11:00 (подробнее: https://www.facebook.com/groups/1696371183995289).\nПрограмма продолжится праздничным концертом в парке Келламяэ (Ringi 31). Звёздами вечера станут Уку Сувисте с музыкальным ансамблем и группа «Земляне» из Москвы.\nВ парке будут работать точки общепита и аттракционы. В 15:00 гостям праздника будет предложено традиционно угоститься ухой. Праздничная программа закончится красочным фейерверком.\n\nПРОГРАММА:\n\n10.00 Общегородская зарядка (Маардуский городской стадион)\n11.00 Парад детского транспорта (старт от торгового центра Pärli)\n13.00 Концерт детских и молодёжных творческих коллективов\n14.00 Торжественное открытие Дня города\n14.20 Награждение отличившихся жителей города (1 часть)\n14.50 Выступление Маардуского городского хора\n15.00 Угощение ухой\n15.00 Выступление Маардуских творческих коллективов\n15.45 Семейный ансамбль Зотовичи\n16.15 Ансамбль эстонского народного танца «Kandali»\n16.35 Лауреаты фестивалей «Maardu F-Eestis» пяти последних лет\n17.40 Награждение отличившихся жителей города (2 часть)\n18.15 Гости фестиваля «Maardu F-Eestis»\n19.30 Уку Сувисте и музыкальный ансамбль\n21.00 Группа «Земляне» (Россия)\n22.00 Фейерверк\n\nNB! Организаторы оставляют право за собой делать изменения в программе!\n
URL:https://mkik.ee/ru/event/maardu-linnapaev/
END:VEVENT
END:VCALENDAR