BEGIN:VCALENDAR
VERSION:2.0
PRODID:-//Maardu Kultuuri- ja Infokeskus - ECPv4.6.12//NONSGML v1.0//EN
CALSCALE:GREGORIAN
METHOD:PUBLISH
X-WR-CALNAME:Maardu Kultuuri- ja Infokeskus
X-ORIGINAL-URL:https://mkik.ee/ru
X-WR-CALDESC:Events for Maardu Kultuuri- ja Infokeskus
BEGIN:VEVENT
DTSTART;TZID=UTC+3:20220716T150000
DTEND;TZID=UTC+3:20220716T150000
DTSTAMP:20260424T201341
CREATED:20220606T105312Z
LAST-MODIFIED:20220705T082129Z
UID:2690-1657983600-1657983600@mkik.ee
SUMMARY:День города Маарду
DESCRIPTION: \nПриглашаем жителей и гостей на празднование Дня города Маарду. \nГлавными артистами празднования Дня города будут группы Little Mess и Ляпис Трубецкой. \nПрограмма\n\n15:00 — 16:00 Выступление детских городских коллективов\n16:00 — 16:30 Открытие Дня города\, награждение жителей и организаций города\, угощение солянкой\n16:30 — 17:30 Концерт коллективов Rahvamaja\n17:30 — 18:30 Программа фестиваля “Maardu F-Eestis”\n18:30 — 19:10 Брасс-группа “BBB”\n19:10 — 19:40 выступает Елена Аксёнова\n19:40 — 20:00 техническая пауза\n20:00 — 20:45 выступает “Little Mess”\n20:45 — 21:00 техническая пауза\n21:00 — 22:00 — выступает Ляпис Трубецкой\n
URL:https://mkik.ee/ru/event/maardu-linnapaev-2/
END:VEVENT
END:VCALENDAR