BEGIN:VCALENDAR
VERSION:2.0
PRODID:-//Maardu Kultuuri- ja Infokeskus - ECPv4.6.12//NONSGML v1.0//EN
CALSCALE:GREGORIAN
METHOD:PUBLISH
X-WR-CALNAME:Maardu Kultuuri- ja Infokeskus
X-ORIGINAL-URL:https://mkik.ee/ru
X-WR-CALDESC:Events for Maardu Kultuuri- ja Infokeskus
BEGIN:VEVENT
DTSTART;TZID=UTC+3:20210601T110000
DTEND;TZID=UTC+3:20210601T110000
DTSTAMP:20260421T151028
CREATED:20210527T104735Z
LAST-MODIFIED:20210527T104735Z
UID:2483-1622545200-1622545200@mkik.ee
SUMMARY:День защиты детей в Маарду
DESCRIPTION: \n1 июня в парке Келламяэ пройдет традиционное празднование Дня защиты детей.\nКак и всегда\, можно будет попрыгать на батутах\, посмотреть технику полиции\, пожарных и организации Кайтселийт\, угоститься сахарной ватой и покататься на пони\, поиграть с аниматорами и украсить лица ярким и креативным аквагримом.\nВсе развлечения для детей бесплатны.\nГостей мероприятия ждет сюрприз.\nВолонтеры Маардуского молодежного горсобрания и организации «Компас» угостят всех конфетами и подарят шарики. Много веселого и интересного ждет детей и в палатке Маардуского молодежного центра.\nКроме этого\, гостей ждет концертная программа\, где выступят коллективы и солисты города Маарду и не только.\nПрограмма:\n11.00 – Открытие и выступление театральной студии «Арт Арена»\n11.20 – Выступает танцевальная студия «JJ-Street»\n11.25 – Развлечения с аниматорами WonderPlanet\n12.00 – Конкурсы и игры\n13.00 – Выступает вокальная студия «Время петь»\n13.15 – Выступает семейный ансамбль Зотович\n13.45 – Выступает певец Дмитрий Васильев\n14.00 – Выступает студия DeLight\n15.00 — Дискотека\n16.00 – Окончание праздника\n\nПраздник организует Маардуский центр культуры и информации в сотрудничестве с отделом образования и молодежной работы Маардуской городской управы.\n
URL:https://mkik.ee/ru/event/maardu-lastekaitsepaev/
END:VEVENT
END:VCALENDAR