BEGIN:VCALENDAR
VERSION:2.0
PRODID:-//Maardu Kultuuri- ja Infokeskus - ECPv4.6.12//NONSGML v1.0//EN
CALSCALE:GREGORIAN
METHOD:PUBLISH
X-WR-CALNAME:Maardu Kultuuri- ja Infokeskus
X-ORIGINAL-URL:https://mkik.ee/ru
X-WR-CALDESC:Events for Maardu Kultuuri- ja Infokeskus
BEGIN:VEVENT
DTSTART;TZID=UTC+3:20230909T120000
DTEND;TZID=UTC+3:20230909T120000
DTSTAMP:20260424T190630
CREATED:20230831T121418Z
LAST-MODIFIED:20230831T121743Z
UID:2882-1694260800-1694260800@mkik.ee
SUMMARY:Маардуская этно-ярмарка
DESCRIPTION: \n
URL:https://mkik.ee/ru/event/maardu-etnolaat-2/
ATTACH;FMTTYPE=image/jpeg:https://mkik.ee/wp-content/uploads/2023/08/A3-3mm-bleeds-est-scaled.jpg
END:VEVENT
END:VCALENDAR