BEGIN:VCALENDAR
VERSION:2.0
PRODID:-//Maardu Kultuuri- ja Infokeskus - ECPv4.6.12//NONSGML v1.0//EN
CALSCALE:GREGORIAN
METHOD:PUBLISH
X-WR-CALNAME:Maardu Kultuuri- ja Infokeskus
X-ORIGINAL-URL:https://mkik.ee/ru
X-WR-CALDESC:Events for Maardu Kultuuri- ja Infokeskus
BEGIN:VEVENT
DTSTART;TZID=UTC+3:20220419T190000
DTEND;TZID=UTC+3:20220419T190000
DTSTAMP:20260424T125617
CREATED:20220418T073307Z
LAST-MODIFIED:20220418T073307Z
UID:2659-1650394800-1650394800@mkik.ee
SUMMARY:Детский концерт
DESCRIPTION: \n
URL:https://mkik.ee/ru/event/lastekontsert/
ATTACH;FMTTYPE=image/jpeg:https://mkik.ee/wp-content/uploads/2022/04/aeglaulda.jpg
END:VEVENT
END:VCALENDAR