BEGIN:VCALENDAR
VERSION:2.0
PRODID:-//Maardu Kultuuri- ja Infokeskus - ECPv4.6.12//NONSGML v1.0//EN
CALSCALE:GREGORIAN
METHOD:PUBLISH
X-WR-CALNAME:Maardu Kultuuri- ja Infokeskus
X-ORIGINAL-URL:https://mkik.ee/ru
X-WR-CALDESC:Events for Maardu Kultuuri- ja Infokeskus
BEGIN:VEVENT
DTSTART;TZID=UTC+3:20240526T160000
DTEND;TZID=UTC+3:20240526T183000
DTSTAMP:20260424T152016
CREATED:20240509T085546Z
LAST-MODIFIED:20240509T085546Z
UID:2962-1716739200-1716748200@mkik.ee
SUMMARY:Вечер встречи работников химического завода
DESCRIPTION: \n
URL:https://mkik.ee/ru/event/keemikute-paev/
END:VEVENT
END:VCALENDAR