BEGIN:VCALENDAR
VERSION:2.0
PRODID:-//Maardu Kultuuri- ja Infokeskus - ECPv4.6.12//NONSGML v1.0//EN
CALSCALE:GREGORIAN
METHOD:PUBLISH
X-WR-CALNAME:Maardu Kultuuri- ja Infokeskus
X-ORIGINAL-URL:https://mkik.ee/ru
X-WR-CALDESC:Events for Maardu Kultuuri- ja Infokeskus
BEGIN:VEVENT
DTSTART;TZID=UTC+3:20230323T180000
DTEND;TZID=UTC+3:20230323T180000
DTSTAMP:20260424T213803
CREATED:20230320T115648Z
LAST-MODIFIED:20230320T115648Z
UID:2811-1679594400-1679594400@mkik.ee
SUMMARY:Юмористическая куплетная программа «Богатый и бедный».
DESCRIPTION:Извините\, этот техт доступен только в “Эстонский”. \n
URL:https://mkik.ee/ru/event/humoorikas-kupleekava-rikas-ja-vaene/
END:VEVENT
END:VCALENDAR