BEGIN:VCALENDAR
VERSION:2.0
PRODID:-//Maardu Kultuuri- ja Infokeskus - ECPv4.6.12//NONSGML v1.0//EN
CALSCALE:GREGORIAN
METHOD:PUBLISH
X-WR-CALNAME:Maardu Kultuuri- ja Infokeskus
X-ORIGINAL-URL:https://mkik.ee/ru
X-WR-CALDESC:Events for Maardu Kultuuri- ja Infokeskus
BEGIN:VEVENT
DTSTART;TZID=UTC+3:20230408T140000
DTEND;TZID=UTC+3:20230408T140000
DTSTAMP:20260424T201039
CREATED:20230327T104435Z
LAST-MODIFIED:20230406T080018Z
UID:2816-1680962400-1680962400@mkik.ee
SUMMARY:Душевные русские песни
DESCRIPTION: \n
URL:https://mkik.ee/ru/event/hingestatud-vene-laulud/
ATTACH;FMTTYPE=image/jpeg:https://mkik.ee/wp-content/uploads/2023/03/8-1.mkik_-scaled.jpg
END:VEVENT
END:VCALENDAR