BEGIN:VCALENDAR
VERSION:2.0
PRODID:-//Maardu Kultuuri- ja Infokeskus - ECPv4.6.12//NONSGML v1.0//EN
CALSCALE:GREGORIAN
METHOD:PUBLISH
X-WR-CALNAME:Maardu Kultuuri- ja Infokeskus
X-ORIGINAL-URL:https://mkik.ee/ru
X-WR-CALDESC:Events for Maardu Kultuuri- ja Infokeskus
BEGIN:VEVENT
DTSTART;TZID=UTC+3:20220424T150000
DTEND;TZID=UTC+3:20220424T150000
DTSTAMP:20260424T143123
CREATED:20220418T073646Z
LAST-MODIFIED:20220418T073646Z
UID:2662-1650812400-1650812400@mkik.ee
SUMMARY:Gints
DESCRIPTION: \n
URL:https://mkik.ee/ru/event/gints/
ATTACH;FMTTYPE=image/png:https://mkik.ee/wp-content/uploads/2022/04/Gints_plakat_Maardu_A2-01.png
END:VEVENT
END:VCALENDAR