BEGIN:VCALENDAR
VERSION:2.0
PRODID:-//Maardu Kultuuri- ja Infokeskus - ECPv4.6.12//NONSGML v1.0//EN
CALSCALE:GREGORIAN
METHOD:PUBLISH
X-WR-CALNAME:Maardu Kultuuri- ja Infokeskus
X-ORIGINAL-URL:https://mkik.ee/ru
X-WR-CALDESC:Events for Maardu Kultuuri- ja Infokeskus
BEGIN:VEVENT
DTSTART;TZID=UTC+3:20220124T180000
DTEND;TZID=UTC+3:20220124T180000
DTSTAMP:20260422T095341
CREATED:20220121T121306Z
LAST-MODIFIED:20220121T121306Z
UID:2595-1643047200-1643047200@mkik.ee
SUMMARY:Концерт пианистов Таллиннского музыкального училища имени Георга Отса
DESCRIPTION: \n
URL:https://mkik.ee/ru/event/georg-otsa-tallinna-muusikakooli-klaveriopilaste-kontsert/
CATEGORIES:Education
ATTACH;FMTTYPE=image/jpeg:https://mkik.ee/wp-content/uploads/2022/01/White-and-Black-Music-Score-and-Notes-Photo-Music-Appreciation-Instagram-Post.jpg
END:VEVENT
END:VCALENDAR