BEGIN:VCALENDAR
VERSION:2.0
PRODID:-//Maardu Kultuuri- ja Infokeskus - ECPv4.6.12//NONSGML v1.0//EN
CALSCALE:GREGORIAN
METHOD:PUBLISH
X-WR-CALNAME:Maardu Kultuuri- ja Infokeskus
X-ORIGINAL-URL:https://mkik.ee/ru
X-WR-CALDESC:Events for Maardu Kultuuri- ja Infokeskus
BEGIN:VEVENT
DTSTART;TZID=UTC+3:20200930T180000
DTEND;TZID=UTC+3:20200930T180000
DTSTAMP:20260421T082132
CREATED:20200928T113930Z
LAST-MODIFIED:20200928T113930Z
UID:2377-1601488800-1601488800@mkik.ee
SUMMARY:Концерт аккордеониста Хенри Зибо
DESCRIPTION: \n\n30 сентября в 18:00 в Маардуском центре досуга состоится концерт одного из передовых аккордеонистов Эстонии — Хенри Зибо!\n\n\nКонцерт приурочен к Международному дню музыки\, который отмечается 1 октября!\n\n\nХенри Зибо — эстонский аккордеонист. Стал знаменитым после телепередачи «Звёзды классики» в 2014 году.\nВыступал солистом в совместной работе с Таллиннским камерным оркестром\, оркестром сил обороны Эстонии\, Эстонским государственным симфоническим оркестром.\nВыступал с концертами как по Эстонии\, Латвии\, Литве\, Болгарии\, Финляндии\, России\, Бельгии.\n\n\nВ программе — М.Глинка\, И.С.Бах\, В.Семёнов и др.\nПриходите на концерт и послушайте лучших исполнителей нашей страны!\nВход свободный.\n\n
URL:https://mkik.ee/ru/event/akordioniste-henri-zibo-kontsert/
ATTACH;FMTTYPE=image/jpeg:https://mkik.ee/wp-content/uploads/2020/09/zibo-est.jpg
END:VEVENT
END:VCALENDAR