BEGIN:VCALENDAR
VERSION:2.0
PRODID:-//Maardu Kultuuri- ja Infokeskus - ECPv4.6.12//NONSGML v1.0//EN
CALSCALE:GREGORIAN
METHOD:PUBLISH
X-WR-CALNAME:Maardu Kultuuri- ja Infokeskus
X-ORIGINAL-URL:https://mkik.ee/ru
X-WR-CALDESC:Events for Maardu Kultuuri- ja Infokeskus
BEGIN:VEVENT
DTSTART;TZID=UTC+3:20210101T003000
DTEND;TZID=UTC+3:20210101T003000
DTSTAMP:20260421T081133
CREATED:20201222T142319Z
LAST-MODIFIED:20201222T142319Z
UID:2421-1609461000-1609461000@mkik.ee
SUMMARY:Новогодние фейерверки в Маарду
DESCRIPTION:Новый год встретим тремя фейерверками: со стадиона Маардуской гимназии\, городского стадиона и территории Муугаского детского сада. \n
URL:https://mkik.ee/ru/event/aastavahetuse-ilutulestikud-maardus/
END:VEVENT
END:VCALENDAR