BEGIN:VCALENDAR
VERSION:2.0
PRODID:-//Maardu Kultuuri- ja Infokeskus - ECPv4.6.12//NONSGML v1.0//EN
CALSCALE:GREGORIAN
METHOD:PUBLISH
X-WR-CALNAME:Maardu Kultuuri- ja Infokeskus
X-ORIGINAL-URL:https://mkik.ee
X-WR-CALDESC:Events for Maardu Kultuuri- ja Infokeskus
BEGIN:VEVENT
DTSTART;TZID=UTC+3:20230218T083000
DTEND;TZID=UTC+3:20230218T083000
DTSTAMP:20260425T035127
CREATED:20230214T122712Z
LAST-MODIFIED:20230214T124422Z
UID:2790-1676709000-1676709000@mkik.ee
SUMMARY:XXII KALAPÜÜGIVÕISTLUS «MAARDU  AHVEN 2023»
DESCRIPTION: \n
URL:https://mkik.ee/event/xxii-kalapuugivoistlus-maardu-ahven-2023/
LOCATION:Maardu\, Eesti
ATTACH;FMTTYPE=image/jpeg:https://mkik.ee/wp-content/uploads/2023/02/Maardu-ahven-2023aaa.jpg
END:VEVENT
END:VCALENDAR