BEGIN:VCALENDAR
VERSION:2.0
PRODID:-//Maardu Kultuuri- ja Infokeskus - ECPv4.6.12//NONSGML v1.0//EN
CALSCALE:GREGORIAN
METHOD:PUBLISH
X-WR-CALNAME:Maardu Kultuuri- ja Infokeskus
X-ORIGINAL-URL:https://mkik.ee
X-WR-CALDESC:Events for Maardu Kultuuri- ja Infokeskus
BEGIN:VEVENT
DTSTART;TZID=UTC+3:20220108T160000
DTEND;TZID=UTC+3:20220108T160000
DTSTAMP:20260422T094450
CREATED:20211220T090420Z
LAST-MODIFIED:20211220T090420Z
UID:2566-1641657600-1641657600@mkik.ee
SUMMARY:Vokaalstuudio DeLight jõulukontsert
DESCRIPTION: \n
URL:https://mkik.ee/event/vokaalstuudio-delight-joulukontsert/
ATTACH;FMTTYPE=image/jpeg:https://mkik.ee/wp-content/uploads/2021/12/afisha-DeLight-xmas-full8-scaled.jpg
END:VEVENT
END:VCALENDAR