BEGIN:VCALENDAR
VERSION:2.0
PRODID:-//Maardu Kultuuri- ja Infokeskus - ECPv4.6.12//NONSGML v1.0//EN
CALSCALE:GREGORIAN
METHOD:PUBLISH
X-WR-CALNAME:Maardu Kultuuri- ja Infokeskus
X-ORIGINAL-URL:https://mkik.ee
X-WR-CALDESC:Events for Maardu Kultuuri- ja Infokeskus
BEGIN:VEVENT
DTSTART;TZID=UTC+3:20210113T180000
DTEND;TZID=UTC+3:20210113T180000
DTSTAMP:20260421T082348
CREATED:20210108T105018Z
LAST-MODIFIED:20210108T105018Z
UID:2427-1610560800-1610560800@mkik.ee
SUMMARY:Vana uusaasta online-kontsert
DESCRIPTION: \n\njaanuaril kell 18:00 kutsume teid vaatama Vana uusaasta kontserdi otseülekannet.\n\nKontserdil esinevad Valgevene seltsi “Jalinka”\, Zotovitši pereansambli ja Ukraina seltsi “Yatran” esindajad\, kes räägivad vana uue aasta tähistamise traditsioonidest Valgevenes ja Ukrainas ning esitavad traditsioonilisi rahvalaule. \nÜlekannet saab vaadata meie Facebooki lehel ja veebilehel www.mkik.ee. \n
URL:https://mkik.ee/event/vana-uusaasta-online-kontsert/
ATTACH;FMTTYPE=image/png:https://mkik.ee/wp-content/uploads/2021/01/Online-концерт-на-Старый-новый-год.png
END:VEVENT
END:VCALENDAR