BEGIN:VCALENDAR
VERSION:2.0
PRODID:-//Maardu Kultuuri- ja Infokeskus - ECPv4.6.12//NONSGML v1.0//EN
CALSCALE:GREGORIAN
METHOD:PUBLISH
X-WR-CALNAME:Maardu Kultuuri- ja Infokeskus
X-ORIGINAL-URL:https://mkik.ee
X-WR-CALDESC:Events for Maardu Kultuuri- ja Infokeskus
BEGIN:VEVENT
DTSTART;TZID=UTC+3:20230523T180000
DTEND;TZID=UTC+3:20230523T180000
DTSTAMP:20260424T124911
CREATED:20230518T084508Z
LAST-MODIFIED:20230518T084619Z
UID:2849-1684864800-1684864800@mkik.ee
SUMMARY:UNUSTAMATU GEORG OTS
DESCRIPTION: \n
URL:https://mkik.ee/event/unustamatu-georg-ots/
ATTACH;FMTTYPE=image/jpeg:https://mkik.ee/wp-content/uploads/2023/05/Georg-Ots.jpg
END:VEVENT
END:VCALENDAR