BEGIN:VCALENDAR
VERSION:2.0
PRODID:-//Maardu Kultuuri- ja Infokeskus - ECPv4.6.12//NONSGML v1.0//EN
CALSCALE:GREGORIAN
METHOD:PUBLISH
X-WR-CALNAME:Maardu Kultuuri- ja Infokeskus
X-ORIGINAL-URL:https://mkik.ee
X-WR-CALDESC:Events for Maardu Kultuuri- ja Infokeskus
BEGIN:VEVENT
DTSTART;TZID=UTC+3:20210211T180000
DTEND;TZID=UTC+3:20210211T180000
DTSTAMP:20260421T095222
CREATED:20210127T103015Z
LAST-MODIFIED:20210208T083149Z
UID:2438-1613066400-1613066400@mkik.ee
SUMMARY:Tudengineljapäev
DESCRIPTION:\n11. veebruaril kell 18:00 toimub Eesti Muusika- ja Teatriakadeemias doktoriõppes õppivate tudengite ainulaadne veebikontsert!\n\n\nMuusikud tulid Eestisse õppima Leedust\, Lätist\, Itaaliast\, Lõuna-koreeast.\n\n\n\nKõik üliõpilased on suurepärased interpreedid\, kes mitte ainult ei anna arvukalt kontserte\, vaid valmistuvad ka väitekirja kaitsmiseks ja doktorikraadi omandamiseks.\n\n\n\n11. veebruaril kell 18:00 esinevad veebikontserdil Mantas Sernius (Leedu)\, Ilana Lode (Läti)\, Vittoria Ecclesia (Itaalia)\, Anneli Tohver (Eesti) ja kaasa teevad silmapaistvad ERSO muusikud ja erinevate konkursside laureaadid Soo-Young Lee (Lõuna-Korea) ja Levi-Danel Mägila (Eesti).\n\n\n\n\nJälgige veebikontserdi ülekannet\, kasutades linki \nhttps://www.facebook.com/maardukultuur\n\nKohtumiseni!\n\n\n\n
URL:https://mkik.ee/event/tudengineljapaev-2/
END:VEVENT
END:VCALENDAR