BEGIN:VCALENDAR
VERSION:2.0
PRODID:-//Maardu Kultuuri- ja Infokeskus - ECPv4.6.12//NONSGML v1.0//EN
CALSCALE:GREGORIAN
METHOD:PUBLISH
X-WR-CALNAME:Maardu Kultuuri- ja Infokeskus
X-ORIGINAL-URL:https://mkik.ee
X-WR-CALDESC:Events for Maardu Kultuuri- ja Infokeskus
BEGIN:VEVENT
DTSTART;TZID=UTC+3:20210214T160000
DTEND;TZID=UTC+3:20210214T160000
DTSTAMP:20260421T122600
CREATED:20210209T093923Z
LAST-MODIFIED:20210209T093923Z
UID:2450-1613318400-1613318400@mkik.ee
SUMMARY:Sõbrapäeva online-kontsert
DESCRIPTION: \nVaata kontserti otseülekandes:\n\nhttps://www.facebook.com/maardukultuur/\nKontserdil osalevad Maardu Kultuuri- ja Infokeskuse loomekollektiivid!\n\n\n\n  \n
URL:https://mkik.ee/event/sobrapaeva-online-kontsert/
ATTACH;FMTTYPE=image/jpeg:https://mkik.ee/wp-content/uploads/2021/02/1200-x-628-Sobrapaev.jpg
END:VEVENT
END:VCALENDAR