BEGIN:VCALENDAR
VERSION:2.0
PRODID:-//Maardu Kultuuri- ja Infokeskus - ECPv4.6.12//NONSGML v1.0//EN
CALSCALE:GREGORIAN
METHOD:PUBLISH
X-WR-CALNAME:Maardu Kultuuri- ja Infokeskus
X-ORIGINAL-URL:https://mkik.ee
X-WR-CALDESC:Events for Maardu Kultuuri- ja Infokeskus
BEGIN:VEVENT
DTSTART;TZID=UTC+3:20210306T120000
DTEND;TZID=UTC+3:20210306T120000
DTSTAMP:20260421T093347
CREATED:20210120T104136Z
LAST-MODIFIED:20210301T091111Z
UID:2432-1615032000-1615032000@mkik.ee
SUMMARY:JÄÄB ÄRA. Rahvusvahelise laste estraadilauljate konkursi „Slavjanski Bazaar Vitebskis” eelvoor
DESCRIPTION: \nXIX Rahvusvaheline laste estraadilauljate  konkurss  \n                                   „Slavjanski Bazaar Vitebskis – 2021” \n                                                      Eelvoor\, Eesti \n                                                         Juhend\nToimumise aeg: \n\nmärts kell 12:00.\n\nProovid alates kella 11.00st. \n  \nToimumise koht: \nMaardu Kultuuri- ja Infokeskus. \nKeemikute 12b\, Maardu\, 74116 Harju maakond \n  \nEesmärk: \nEelvooru põhieesmärgiks on välja selgitada Eesti parimad noored lauljad vanuses 8-14 aastani . Eelvooru võitjad esindavad Eestit XIX Rahvusvahelisel laste estraadilauljate konkursil „Slavjanski Bazaar Vitebskis – 2021“ (Valgevene). \n  \nLisaks: \n– välja selgitada noori andekaid soliste; \n– loomingulise meisterlikkuse edasi arendamine; \n– loomingulise kontaktide laiendamine; \n– populariseerida autoreid\, kes loovad laule lastele; \n– pedagoogide ning lauljate vaheliste kogemuste vahetamine; \n– kuulajate huvi tõstmine esinejate vastu. \nKonkursi eelvooru tingimused: \n– I laul oma riigi autorilt\, eesti keeles; \n– II laul – vabal valikul. \n  \nŽürii ja hindamise kriteeriumid: \n– žürii koosseis – Eesti professionaalsed estraadilauljad\, muusikud ja heliloojad. \nOsalejate esinemist hinnatakse 10-palli süsteemis; \n– žürii valib välja konkursi eelvooru võitja; \n– ühesuguse arvuga punktide korral viib žürii läbi hääletuse; \n– hindamise peamisteks kriteeriumiteks on esinemise meisterlikkus\, esitamisviisi vastavus valitud repertuaariga\, lavaline esinemisoskus; \nRegistreerimine: \n– kõiki konkursist osavõtjaid autasustatakse diplomiga; \n– eelvooru võitja esindab Eestit XIX Rahvusvahelisel laste estraadilauljate \nkonkursil „Slavjanski Bazaar Vitebskis – 2021“ (Valgevenes). \n–  konkursi finaalis „Slavjanski Bazaar Vitebskis – 2021” antakse välja preemiad vastavalt esinemise tulemustele: Grand Pix – 5000$\, I koht – 3000$\, \nII koht – 2000$\, III koht – 1000$. \nRegistreerimiseks on vaja täita registreerimisleht  ja saata meili aadressile  direktor@maarduvak.ee\, tähtaeg on 1. märts 2021. \n  \n Info: tel. +372 5647 7072\, www.mkik.ee  E-mail:direktor@maarduvak.ee \n
URL:https://mkik.ee/event/rahvusvahelise-laste-estraadilauljate-konkursi-slavjanski-bazaar-vitebskis-eelvoor/
ATTACH;FMTTYPE=image/png:https://mkik.ee/wp-content/uploads/2021/01/2.png
END:VEVENT
END:VCALENDAR