BEGIN:VCALENDAR
VERSION:2.0
PRODID:-//Maardu Kultuuri- ja Infokeskus - ECPv4.6.12//NONSGML v1.0//EN
CALSCALE:GREGORIAN
METHOD:PUBLISH
X-WR-CALNAME:Maardu Kultuuri- ja Infokeskus
X-ORIGINAL-URL:https://mkik.ee
X-WR-CALDESC:Events for Maardu Kultuuri- ja Infokeskus
BEGIN:VEVENT
DTSTART;TZID=UTC+0:20200215T140000
DTEND;TZID=UTC+0:20200215T140000
DTSTAMP:20260424T122024
CREATED:20200110T121828Z
LAST-MODIFIED:20200114T043022Z
UID:2056-1581775200-1581775200@mkik.ee
SUMMARY:Rahvusvahelise konkursi “Slavjanski Bazar v Vitebske” eelvoor
DESCRIPTION: \nTähelepanu! Konkurss!\n15.veebruaril kell 14.00 toimub Maardu Kultuuri- ja Infokeskuses\nestraadilauljate konkursi „Slavjanski Bazaar Vitebskis – 2020” Eesti eelvoor.\nKonkursist osa võtma on oodatud estraadilaulude esitajaid\, kes on edukalt esinenud konsertetendustel\, muusikalistel konkurssidel ja festivalidel. Konkursil saavad osaleda lapsed vanuses 8-14 (kaasa arvatud) ja täiskasvanud 18 – 31 aastat.\nEelvooru põhieesmärk on välja selgitada parimad noored lauljad\, kellel on au esindada Eestit XXIX Rahvusvahelisel kunstifestivalil „Slavjanski Bazaar Vitebskis – 2020”(Valgevenes). \nAlla laadida: \nJuhend täiskasvanutele \nJuhend lastele \nRegistreerimisleht täiskasvanutele \nRegistreerimisleht lastele \n
URL:https://mkik.ee/event/rahvusvahelise-konkursi-slavjanski-bazar-v-vitebske-eelvoor/
END:VEVENT
END:VCALENDAR