BEGIN:VCALENDAR
VERSION:2.0
PRODID:-//Maardu Kultuuri- ja Infokeskus - ECPv4.6.12//NONSGML v1.0//EN
CALSCALE:GREGORIAN
METHOD:PUBLISH
X-WR-CALNAME:Maardu Kultuuri- ja Infokeskus
X-ORIGINAL-URL:https://mkik.ee
X-WR-CALDESC:Events for Maardu Kultuuri- ja Infokeskus
BEGIN:VEVENT
DTSTART;TZID=UTC+3:20211002T140000
DTEND;TZID=UTC+3:20211002T140000
DTSTAMP:20260422T022310
CREATED:20210927T061859Z
LAST-MODIFIED:20210927T061859Z
UID:2545-1633183200-1633183200@mkik.ee
SUMMARY:Rahvusvaheline Muusikapäev - Juubelikontsert "Zlatõje Gorõ"
DESCRIPTION: \n
URL:https://mkik.ee/event/rahvusvaheline-muusikapaev-juubelikontsert-zlatoje-goro/
END:VEVENT
END:VCALENDAR