BEGIN:VCALENDAR
VERSION:2.0
PRODID:-//Maardu Kultuuri- ja Infokeskus - ECPv4.6.12//NONSGML v1.0//EN
CALSCALE:GREGORIAN
METHOD:PUBLISH
X-WR-CALNAME:Maardu Kultuuri- ja Infokeskus
X-ORIGINAL-URL:https://mkik.ee
X-WR-CALDESC:Events for Maardu Kultuuri- ja Infokeskus
BEGIN:VEVENT
DTSTART;TZID=UTC+3:20241204T160000
DTEND;TZID=UTC+3:20241204T160000
DTSTAMP:20260424T140152
CREATED:20241128T103720Z
LAST-MODIFIED:20241128T105439Z
UID:3084-1733328000-1733328000@mkik.ee
SUMMARY:Pillid on meie sõbrad
DESCRIPTION: \nKolmapäeval\, 4.detsembril\, kell 16.00 toimub Muuga lasteaia saalis kaunis klassikalise muusika kontsert. Teile esinevad Sigrid Kuulman viiulil ja Kirill Lissijenko klaveril.Kavas: Mascagni\, Puccini\, Tšaikovski ja paljude teiste heliloojate teosed.LISAINFO – enne kontserti teevad omapoolse tervitusesinemise Muuga lasteaia kasvandikud.Kontsert on TASUTA.NB! Sissepääs majja on lipumasti poolsest uksest! \n
URL:https://mkik.ee/event/pillid-on-meie-sobrad/
ATTACH;FMTTYPE=image/jpeg:https://mkik.ee/wp-content/uploads/2024/11/prev.jpg
END:VEVENT
END:VCALENDAR