BEGIN:VCALENDAR
VERSION:2.0
PRODID:-//Maardu Kultuuri- ja Infokeskus - ECPv4.6.12//NONSGML v1.0//EN
CALSCALE:GREGORIAN
METHOD:PUBLISH
X-WR-CALNAME:Maardu Kultuuri- ja Infokeskus
X-ORIGINAL-URL:https://mkik.ee
X-WR-CALDESC:Events for Maardu Kultuuri- ja Infokeskus
BEGIN:VEVENT
DTSTART;TZID=UTC+3:20230427T100000
DTEND;TZID=UTC+3:20230427T100000
DTSTAMP:20260424T160635
CREATED:20230412T120555Z
LAST-MODIFIED:20230412T120555Z
UID:2836-1682589600-1682589600@mkik.ee
SUMMARY:Muinasjutud\, muusika ja liivakunsti kontsert
DESCRIPTION: \n
URL:https://mkik.ee/event/muinasjutud-muusika-ja-liivakunsti-kontsert/
ATTACH;FMTTYPE=image/png:https://mkik.ee/wp-content/uploads/2023/04/песочные-сказки-2.png
END:VEVENT
END:VCALENDAR