BEGIN:VCALENDAR
VERSION:2.0
PRODID:-//Maardu Kultuuri- ja Infokeskus - ECPv4.6.12//NONSGML v1.0//EN
CALSCALE:GREGORIAN
METHOD:PUBLISH
X-WR-CALNAME:Maardu Kultuuri- ja Infokeskus
X-ORIGINAL-URL:https://mkik.ee
X-WR-CALDESC:Events for Maardu Kultuuri- ja Infokeskus
BEGIN:VEVENT
DTSTART;TZID=UTC+3:20210307T160000
DTEND;TZID=UTC+3:20210307T160000
DTSTAMP:20260421T104354
CREATED:20210304T111103Z
LAST-MODIFIED:20210304T111103Z
UID:2470-1615132800-1615132800@mkik.ee
SUMMARY:MKIK Live: Naistepäeva kontsert
DESCRIPTION: \nIgal aastal 8. märtsil me tähistame Rahvusvahelist naistepäeva\, kingime naistele lilli ning valmistame ette meeldivaid üllatusi ja kingitusi. Sellel aastal Maardu Vaba Aja Keskuse laval laulavad naistele Pjotr Zotovich ja Sergei Maasin! Naistepäeva kontsert toimub 7. märtsil kell 16.00. Kohtume otse-eetris: \nwww.mkik.ee\nfb.me/maardukultuur \n  \n  \n
URL:https://mkik.ee/event/mkik-live-naistepaeva-kontsert/
ATTACH;FMTTYPE=image/png:https://mkik.ee/wp-content/uploads/2021/03/MKIK-Live.png
END:VEVENT
END:VCALENDAR