BEGIN:VCALENDAR
VERSION:2.0
PRODID:-//Maardu Kultuuri- ja Infokeskus - ECPv4.6.12//NONSGML v1.0//EN
CALSCALE:GREGORIAN
METHOD:PUBLISH
X-WR-CALNAME:Maardu Kultuuri- ja Infokeskus
X-ORIGINAL-URL:https://mkik.ee
X-WR-CALDESC:Events for Maardu Kultuuri- ja Infokeskus
BEGIN:VEVENT
DTSTART;TZID=UTC+3:20200618T160000
DTEND;TZID=UTC+3:20200618T160000
DTSTAMP:20260425T184457
CREATED:20200616T071104Z
LAST-MODIFIED:20200616T071104Z
UID:2314-1592496000-1592496000@mkik.ee
SUMMARY:MKIK Live: Ivi Rausi & Robert Rebane
DESCRIPTION: \nMaardu Kultuuri- ja Infokeskuse online kontsert. \nEsinevad Ivi Rausi (vokaal) ja Robert Rebane (akordion\, basskitarr). \nJälgige meie otseülekannet siin:\nhttps://www.facebook.com/maardukultuur/ \nKaks muusikut\, kellele meeldib avastada\, ja kes usuvad\, et lihtsuses peitub ilu. Duo on justkui loodud selleks\, et avada uks muusika võlumaailma ja hulkuda selle mitmekesisuses. Igal lool on oma kordumatu sõnum\, kus jääb alati ruumi vabadusele tunda ja kogeda midagi uut! \nIvi Rausi on jazzlaulja\, kes on tulvil kontraste. Tema muusika viib kuulaja värvikirevasse maailma\, kus tuleb valmis olla kõigeks. Ivi Rausit kui muusikut iseloomustab julgus katsetada\, mõelda väljaspool raame ja mitte kõndida mööda sissetallatud radu. Ta usub\, et iga muusik\, kellel on idee ja sõnum\, on ainulaadne ja kordumatu. \nRobert Rebane alustas oma muusikuteed akordionistina Nõmme Muusikakoolis ja Georg Otsa nimelises Tallinna Muusikakoolis Olivia Kalluste ja Tiit Kalluste õpilasena. Ta on saavutanud häid tulemusi mitmetel omaloomingulistel konkurssidel. Akordioni kõrvalt hakkas\nta iseseisvalt õppima ka klaverit ja kitarri. 2019. aastal lõpetas Robert Amsterdami Konservatooriumi jazz-osakonna hoopis basskitarri erialal. Ta tegutseb koosseisudes nagu De Jong/Rebane/Kantonen Trio(NL/FIN/EST)\, Tobias Tammearu Trio\, Pennar &amp; Friends\, Puhkuseloomad ja Pillikud. \n
URL:https://mkik.ee/event/mkik-live-ivi-rausi-robert-rebane/
END:VEVENT
END:VCALENDAR