BEGIN:VCALENDAR
VERSION:2.0
PRODID:-//Maardu Kultuuri- ja Infokeskus - ECPv4.6.12//NONSGML v1.0//EN
CALSCALE:GREGORIAN
METHOD:PUBLISH
X-WR-CALNAME:Maardu Kultuuri- ja Infokeskus
X-ORIGINAL-URL:https://mkik.ee
X-WR-CALDESC:Events for Maardu Kultuuri- ja Infokeskus
BEGIN:VEVENT
DTSTART;TZID=UTC+3:20220306T110000
DTEND;TZID=UTC+3:20220306T110000
DTSTAMP:20260424T082225
CREATED:20220209T100419Z
LAST-MODIFIED:20220225T115147Z
UID:2617-1646564400-1646564400@mkik.ee
SUMMARY:Maslenitsa Maardus
DESCRIPTION: \n\nPühapäeval\, 6. märtsil toimub kell 11.00 – 19.00 Maardu Rahvamaja (Karjääri 4) esisel väljakul traditsiooniline vastlate ehk slaavi Maslenitsa tähistamine.\n\nJuba kell 11 avatakse Maslenitsa laat\, alates kella 13.00 võivad kõik osaleda võistlustel ja atraktsioonidel\, laval astuvad üles loomingulised kollektiivid. Õhtul kell 18.00 on oodata traditsioonilist Maslenitsa koletise topise põletamist ja värvikat show.\n\nVastlapäeva tähistamise programm Maardus\n\n11.00 Kauplemise algus\n13.00 Kultuuriprogrammi algus\n13.05 Proloog teatrist Lehvik ja mõõk\n13.15 Ansamblid Bõlitsa ja Sirin\n13.40 Laulukoor Raduga (juhataja Petr Zotovitš)\, Valgevene seltsi Kupava ansambel Jalinka (juhataja Jelena Koljagina)\, Ukraina seltsi ansambel Jatran (juhataja Petr Zotovitš)\, ansambel Rjabinuška (juhataja Mykola Shvets)\, vokaalstuudio “Aeg laulda” (juhataja Jelena Derizemlja)\, tantsurühmad “Elurõõm” (juhataja Aljona Znojeva) ja “Bella” (juhataja Olga Muhhina)\n14.40 Vokaalstuudio De Light ja slaavi kultuuriühing Gorlitsa\n15.00 Linnapea tervitused ja külaliste kostitamine pannkookidega\n15.05 De Light ja Gorlitsa jätkavad\n15.45 Eesti rahvatantsuansambel Jõelähtme Muhedad segarühm\n16.05 Jõumeeste võistlus\n16.20 Ansambel Sansara (Valga)\n16.45 Tantsustuudio Kolor\n17.00 Ansambel Laine\n17.30 Tantsustuudio Kolor\n17.45 Epiloog teatristuudiotest Lehvik ja mõõk ja Lendav lehm\n18.00 Maslenitsa nuku põletamine ja värvikas show\n\n\n\n\nVastlapäeva spordiprogramm “Selveri Laste Rahvamängud” kooliõpilastele  \nAeg ja koht: \n„Lõbusad stardid“ kooliõpilastele toimuvad 6. märtsil Vastlapäeva tähistamise raames. \nAlgus:   12.00. \nKoht: linnastaadion. \nOsalejad: \nMaardu koolide võistkonnad. Igast koolist üks võistkond. \nTeatevõistlusete võistkonnad moodustatakse 5.\, 6.\, 7.\, 8.\, 9. klassi õpilastest\, igast klassist üks poiss ja üks tüdruk (5 poissi + 5 tüdrukut) ning 10 poisist (5 poissi 8. klassist ja 5 poissi 9. klassist). \nProgramm:                                   Meeskond                                                                                           \n\nSaapavise                 5 poissi + 5 tüdrukut\nTeatevõistlus uiskudel 5 poissi + 5 tüdrukut\n\n(jää puudumisel – teatejooks “maahoki”) \n\nSein seina vastu 10 poissi\nKöievedu 5 poissi + 5 tüdrukut\nLabidasõit                                 5 poissi + 5 tüdrukut\n\n(lume puudumise korral – teatevõistlus “kelgusõit”) \n!  TEATEVÕISTLUSI ALUSTAVAD NOOREMAD JA LÕPETAVAD VANEMAD ÕPILASED\, JÄRJESTUSES – \nTÜDRUK\, POISS. \n\nSaapavise.\n\nMeeskonnaliikmed viskavad kordamööda saabast (üks katse korraga).  Soorituste kogusumma määrab meeskonna koha. \n\nTeatevõistlus uiskudel.\n\nIga meeskonnaliige uisutab kordamööda 5 korda tähistatud ringil.  Teate edasiandmine toimub kaasvõistleja käe puudutamisega. \nJää puudumisel asendame selle teatevõistlusega “maahoki”. \n2/1 Teatevõistlus „maahoki“. \nEsimestel võistlejatel on hokikepp ja pall. Teatevõistlust alustades läbivad osalejad viis tähist\, püüdes neid mitte ümber ajada. Kui tähis kukub\, tuleb see püsti tõsta ja alles siis võib võistleja liikumist jätkata. Pärast viimast tähist tuleb tagasiteel palliga läbida kolm väikest väravat\, mis on paigutatud ühemeetriste vahedega. Pall peab ühe löögiga läbima kõik kolm väravat. Kui sooritus ebaõnnestub\, tuleb seda korrata. Pärast oma sooritust tuleb hokikepp ja pall anda üle järgmisele võistlejale.  Võidab see võistkond\, kelle kõik liikmed trassi kõige kiiremini läbivad ja kelle viimane osaleja esimesena finišijoone ületab. \n\nSein seina vastu.\n\nMängureeglid: \nLepitakse kokku keskjoon ja „kodu“ territoorium. Võistkonnad paiknevad teineteise vastas „kodu“ joone taga. \nKohtuniku märguande peale liiguvad mõlemad võistkonnad keskjoone suunas. Võistkondade liikmed hoiavad üksteisel kaenla alt kinni\, oma käed lukustatud asendis  ja moodustavad „seina“. Vastasvõistkond käitub samamoodi. \nVõistkondade ülesanne: \n\nTuleb läbi murda vastase kaitsest\nVastase võistkond tuleb lükata „kodu“ joone taha\n\nIga rünnak kestab maksimaalselt ühe minuti \nVõidab võistkond\, kelle liikmed: \n\nMurravad läbi vastase võistkonnast\nSunnivad vastase väljakult välja minema („kodu“ joone ületab kasvõi üks võistkonna liige)\n\nKeelatud: \n\nLüüa tahtlikult õlaga vastasvõistleja pead või nägu\nLüüa käte või jalgadega vastase kehasse\nVõtta vastast jalgadega võttesse\n\nReeglite rikkumisel antakse võistluse võit vastasvõistkonnale \nIga võidu eest antakse 1 punkt. Võidab võistkond\, kes esimesena saab kolm punkti. \n\nKöievedu\n\nVõistkonna paiknevad teineteise suhtes keskjoonest kahe meetri kaugusel. \nKohtunik vilistab ja köievedu algab. Kui vastane astub keskjoonele on võistlus lõppenud. \nIga õnnestunud soorituse eest saab võistkond ühe punkti. Võidab võistkond\, kes esimesena saab kolm punkti. \n\nLabidasõit\n\nMeeskonnaliikmed jagunevad paarideks. 20 meetri kaugusel stardijoonest on tähis. \nEsimene paar (üks veab teist labidal) jookseb tähiseni\, vahetab kohti ja tuleb tagasi  jne. \nVõidab võistkond\, kelle viimane paar esimesena finišijoone ületab. \nLume puudumisel asendame selle teatejooksuga “kelguvõistlus”. \n5/1 Teatevõislus „kelguvõistlus“ \nMeeskonnaliikmed jagunevad paarideks. Nende ees on kelk koos koonusega. \nEsimene paar veab kelku\, millele on asetatud koonus ja püüab seda mitte lasta ümber kukkuda. Jooksevad ümber tähise ja tulevad tagasi ning annavad kelgu koos koonusega üle järgmisele paarile jne. \nKui koonus kukub kelgu pealt maha\, siis  tuleb see kukkumise kohas uuesti kelgule tõsta ning siis teatevõistlust jätkata. \nVõidab võistkond\, kelle viimane paar ületab esimesena finišijoone. \nAutasustamine: \n\nAutasu saab iga võistluse parim võistkond (auhinna saavad kõik võistkonna liikmed)\nÜldvõitjana autasustatakse ühte kooli (auhinnaks karikas)\n\n\n\nKorraldaja jätab endale õiguse teha ajakavas muudatusi.\n\n  \n
URL:https://mkik.ee/event/maslenitsa-maardus/
LOCATION:Karjääri 4\, Maardu\, Эстония\, 74112\, Estonia
ATTACH;FMTTYPE=image/png:https://mkik.ee/wp-content/uploads/2022/02/est-maslenitsa-2022-1.png
END:VEVENT
END:VCALENDAR