BEGIN:VCALENDAR
VERSION:2.0
PRODID:-//Maardu Kultuuri- ja Infokeskus - ECPv4.6.12//NONSGML v1.0//EN
CALSCALE:GREGORIAN
METHOD:PUBLISH
X-WR-CALNAME:Maardu Kultuuri- ja Infokeskus
X-ORIGINAL-URL:https://mkik.ee
X-WR-CALDESC:Events for Maardu Kultuuri- ja Infokeskus
BEGIN:VEVENT
DTSTART;TZID=UTC+3:20200803T150000
DTEND;TZID=UTC+3:20200803T150000
DTSTAMP:20260425T125356
CREATED:20200730T094132Z
LAST-MODIFIED:20200730T094254Z
UID:2344-1596466800-1596466800@mkik.ee
SUMMARY:Maria Veretenina
DESCRIPTION: \n
URL:https://mkik.ee/event/maria-veretenina/
END:VEVENT
END:VCALENDAR