BEGIN:VCALENDAR
VERSION:2.0
PRODID:-//Maardu Kultuuri- ja Infokeskus - ECPv4.6.12//NONSGML v1.0//EN
CALSCALE:GREGORIAN
METHOD:PUBLISH
X-WR-CALNAME:Maardu Kultuuri- ja Infokeskus
X-ORIGINAL-URL:https://mkik.ee
X-WR-CALDESC:Events for Maardu Kultuuri- ja Infokeskus
BEGIN:VEVENT
DTSTART;TZID=UTC+3:20201204T100000
DTEND;TZID=UTC+3:20201204T100000
DTSTAMP:20260421T051447
CREATED:20201116T121228Z
LAST-MODIFIED:20201116T121247Z
UID:2398-1607076000-1607076000@mkik.ee
SUMMARY:Maardu Linnavolikogu noortesimulatsioon
DESCRIPTION: \n\nKutsume Maardu noori 14–26 vanusega osalema Maardu linnavolikogu simulatsioonimängus\, mis toimub 4. detsembril Maardu Vaba Aja Keskuses.\n\n\nEelregistreerimine on kohustuslik: https://forms.gle/fYk8ktLAasyJosaq9\n\n\n \n\n\nLinnavolikogu on Maardu esinduskogu\, mille valivad kohaliku omavalitsuse alalised elanikud\, kes on jõudnud 16-aastaseks (sealhulgas kodakondsuseta isikud ja teiste riikide kodanikud).\n\n\nLinnavolikogu saadikud valivad linnapea\, kinnitavad linnavalitsuse koosseisu ja aastaeelarve. Nad teevad otsuseid hariduse\, kultuuri ja sotsiaalkaitse osas ning määravad linna arengusuuna.\n\n\n \n\n\nProgramm:\n\n\n09:30 – Tervituskohv\n\n\n10:00 – Simulatsiooni algus\, sissejuhatus\n\n\n10:30 – Komisjonide moodustamine\n\n\n10:45 – Töö komisjonides\n\n\n11:45 – Vaheaeg\n\n\n12:00 – Ideede esitlus\n\n\n13:00 – Lõunasöök\, lobitöö\n\n\n14:00 – Ideede arutelu ja hääletamine\n\n\n15:00 – Paneeldiskussioon “Maardu – noortepealinn”\n\n\n15:30 – Hääletustulemused\n\n\n15:45 – Kokkuvõte\n\n\n16:00 – Simulatsioonimängu lõpp\n\n\n \n\n\nSimulatsioonist:\n\n\nSimulatsioonimängus jagunevad osalejad komisjonideks ja töötavad meeskondades töötades välja noorte ettepanekud linna eelarve jaoks. Pärast komisjonides töötamist tutvustavad osalejad ideid ning esitavad need arutamiseks ja hääletamiseks. Osalejatel on hääleõigus ja ideed lähevad lõplikku eelarvesse\, mis saab 51% häältest.\n\n\n \n\n\nLõplikku eelarvesse minevad ideed esitatakse linnavõimudele. Neid ideid võetakse arvesse 2021. aasta eelarve\, linnaarenguprogrammi koostamisel ning simulatsioonimängus osalejate soovil saab neid esitada ideekonkursile Kodulinn kaunimaks 2021.\n\n\n \n\n\n \n\n\nKomisjonide nimekiri:\n\n\n\nHariduse ja noorsootöö komisjon\n\n\nKultuuri- ja spordikomisjon\n\n\nLinnamajanduse- ja keskkonnakomisjon\n\n\nSotsiaalse kaitse ja tervishoiu komisjon\n\n\nKorrakaitsekomisjon\n\n\n\n \n\n\nRegistreerimine:\n\n\nRegistreeruda saate Google’i vormi kaudu: https://forms.gle/fYk8ktLAasyJosaq9\n\n\n \n\n\nTurvameetmed:\n\n\nÜritusel on soovitatav kanda maske ja kasutada antiseptikut. Maskide ja antiseptikumide kättesaadavuse tagab korraldaja.\n\n\nKui enesetunne pole hea\, hoiatage korraldajaid ja jääge koju.\n\n\nMaardu Vaba sissepääsu juures mõõdavad vabatahtlikud temperatuuri.\n\n\n \n\n\n \n\n\nKorraldajad:\n\n\nÜrituse korraldab noorteühing “Compass” Maardu linnavalitsuse\, Eesti Noorteühenduste Liidu\, Noorte Osalusfondi ning Hariduse- ja Noorteameti toel.\n\n\nKorraldajad jätavad endale õiguse teha programmis muudatusi\, samuti lükata üritus edasi\, kui olukord COVID19-ga halveneb.\n\n\n \n\n\nKontaktisik: Pavel Kuusik\, 5216028\, pavel.kuusik@maardu.ee\n\n
URL:https://mkik.ee/event/maardu-linnavolikogu-noortesimulatsioon/
END:VEVENT
END:VCALENDAR