BEGIN:VCALENDAR
VERSION:2.0
PRODID:-//Maardu Kultuuri- ja Infokeskus - ECPv4.6.12//NONSGML v1.0//EN
CALSCALE:GREGORIAN
METHOD:PUBLISH
X-WR-CALNAME:Maardu Kultuuri- ja Infokeskus
X-ORIGINAL-URL:https://mkik.ee
X-WR-CALDESC:Events for Maardu Kultuuri- ja Infokeskus
BEGIN:VEVENT
DTSTART;TZID=UTC+3:20210717T110000
DTEND;TZID=UTC+3:20210717T110000
DTSTAMP:20260421T212327
CREATED:20210628T150506Z
LAST-MODIFIED:20210712T123625Z
UID:2508-1626519600-1626519600@mkik.ee
SUMMARY:Maardu Linnapäev
DESCRIPTION: \nTraditsiooniline suur Maardu linnapäeva tähistamine toimub 17. juulil.\nPidu algab ülelinnalise hommikuvõimlemisega Maardu linnastaadionil kell 10:00 (Karjääri 4) ja Laste transpordi paraadiga kell 11:00 (loe rohkem: https://www.facebook.com/groups/1696371183995289).\nProgramm jätkub piduliku kontserdiga Kellamäe pargis (Ringi 31). Õhtu staarideks on Uku Suviste koos muusikalise ansambliga ja bänd Zemlyane Moskvast. Pargis töötavad toitlustuspunktid ja atraktsioonid.\nKell 15:00 pakutakse Linnapäeva külalistele traditsioonilist einet kalasupist. Piduliku programmi lõpetab värvikas ilutulestik.\n\nPROGRAMM:\n\n10.00 Ülelinnaline hommikuvõimlemine\n11.00 Laste liiklusvahendite paraad\n13.00 Laste ja noorte laulu- ja tantsuansamblite kontsert\n14.00 Linnapäeva avatseremoonia\n14.20 Linnaelanike autasustamine (1. osa)\n14.50 Maardu linnakoori esinemine\n15.00 Linnaelanike kostitamine kalasupiga\n15.00 Maardu laulu- ja tantsuansamblite esinemine\n15.45 Pereansambel Zotovichi\n16.15 Eesti rahvatantsuansambel “Kandali”\n16.35 Viimase viie aasta festivalide “Maardu F-Eestis” laureaadid\n17.40 Linnaelanike autasustamine (2. osa)\n18.15 Festivali “Maardu F-Eestis” külalised\n19.30 Uku Suviste & Band\n21.00 Bänd “Zemlyane” (Venemaa)\n22.00 Ilutulestik\n\nNB! Korraldajad jätavad endale õiguse teha kavas muudatusi!\n\n\n
URL:https://mkik.ee/event/maardu-linnapaev/
END:VEVENT
END:VCALENDAR