BEGIN:VCALENDAR
VERSION:2.0
PRODID:-//Maardu Kultuuri- ja Infokeskus - ECPv4.6.12//NONSGML v1.0//EN
CALSCALE:GREGORIAN
METHOD:PUBLISH
X-WR-CALNAME:Maardu Kultuuri- ja Infokeskus
X-ORIGINAL-URL:https://mkik.ee
X-WR-CALDESC:Events for Maardu Kultuuri- ja Infokeskus
BEGIN:VEVENT
DTSTART;TZID=UTC+3:20210601T110000
DTEND;TZID=UTC+3:20210601T110000
DTSTAMP:20260421T133923
CREATED:20210527T104735Z
LAST-MODIFIED:20210527T104735Z
UID:2483-1622545200-1622545200@mkik.ee
SUMMARY:Maardu Lastekaitsepäev
DESCRIPTION: \n  \n1. juunil Kellamäe pargis ootab teid suur meelelahutusprogramm\, mis toimub Lastekaitsepäeva tähistamise raames.\nLastel on võimalik hüpata batuutidel\, vaadata politsei\, tuletõrjujate ja Kaitseliidu tehnikat\, nautida suhkruvatti jne.\nMaardu Noortevolikogu ja noorteühingu “Compass” vabatahtlikud kostitavad kõiki maiustustega ja kingivad õhupalle.\nMaardu noortekeskuse telgis ootab teid ka palju huvitavaid.\nKõiki külalisi ootab üllatus.\nKontserdiprogramm:\n11.00 – Avamine ja teatristuudio “Art Arena” meelelahutusprogramm\n11.20 – Esineb tantsustuudio “JJ-Street”\n11.25 – Meelelahutus animaatoritega WonderPlanet\n12.00 – Konkursid ja mängud\n13.00 – Esineb vokaalstuudio Aeg Laulda\n13.15 – Esineb pereansambel Zotovich\n13.45 – Esineb laulja Dmitri Vassiljev\n14.00 – Esineb Stuudio DeLight\n15.00 – Disko\n16.00 – Ürituse lõpp\nPeo korraldab Maardu Kultuuri- ja Infokeskus koostöös Maardu Linnavalitsuse Haridus- ja noorsootööosakonnaga.\n
URL:https://mkik.ee/event/maardu-lastekaitsepaev/
END:VEVENT
END:VCALENDAR