BEGIN:VCALENDAR
VERSION:2.0
PRODID:-//Maardu Kultuuri- ja Infokeskus - ECPv4.6.12//NONSGML v1.0//EN
CALSCALE:GREGORIAN
METHOD:PUBLISH
X-WR-CALNAME:Maardu Kultuuri- ja Infokeskus
X-ORIGINAL-URL:https://mkik.ee
X-WR-CALDESC:Events for Maardu Kultuuri- ja Infokeskus
BEGIN:VEVENT
DTSTART;VALUE=DATE:20210911
DTEND;VALUE=DATE:20210913
DTSTAMP:20260422T005023
CREATED:20210903T093733Z
LAST-MODIFIED:20210910T143416Z
UID:2536-1631318400-1631491199@mkik.ee
SUMMARY:Maardu Etnolaat
DESCRIPTION: \n11. – 12.septembril toimub Kellamäe pargis traditsiooniline sügislaat\, mis sellest aastast nimi on “Maardu etnolaat”.\nFestivali programmis on esindatud Eestis elavate erinevate rahvuste esindajad.\nEsimese päeva peaesinejad on Erich Krieger\, Alterego ja Herb McCoy bändist The Real Bad Boys Blue. Teise päeva lõpetab rock’n’roll bändi BillyCraft esinemine.\n\n\nProgramm:\nLaupäev 11.09 \n10:00 Müügipunktide töö algus\n12:00 – 14:00 Rahvusvähemuste ühingu Lyra programm\n14:00 – 14:10 Festivali avamine\n14:10 –14: 30 Eesti rahvatantsuansambel “Kandali”\n14:30 – 14:50 Ansamblid Bõlitsa ja Sirin\n15:00 – 15:20 Vadjalaste torupilliansambel (Narva)\n15:20 – 16:40 Vene Haridus- ja Heategevusühingute liidu program.\nAnsamblid Ljubava (juh. Svetlana Zaugarova)\, “Gracia” (juh. Elena\nAkhmedov) ja Sudaruški (Pärnu)\n16:40 – 17:20 Ansambel Terek (juh. Ilona Thagazitova) ja Julia Krekhova\n17:20 – 17:35 Tehniline paus\n17:35 – 18:20 Ansambel Zlatõe Gorõ (juh Igor Jermakov)\n18:20 – 19:00 Erich Krieger\n19:00 – 19:15 Tehniline paus\n19:15 – 20:00 Alter Ego Cover Bänd\n20:00 – 21:00 Herb McCoy from The Real Bad Boys Blue\n21:00 – Ilutulestik \nPühapäev 12.09 \n10:00 – 11:00 Müügipunktide töö algus\n12:00 – 13:00 Maardu lasterühmade kontsert: teater «Veer & Špaga»\, Zotovich\, laulustuudiod: «De Light»\, «Tutti Stuudio»\, «Aeg Laulda»\, Zotovich\, Maardu Kunstide Kool\, tantsukool JJStreet.\n13:00 – 14:00 – Ukraina seltsi ansambel Yatran\, Valgevene seltsi\nansambel Jalinka\,ansambel Raduga\, tantsurühm Bella\, tantsurühm Elurõõm\, ansambel Rjabinuška\, moeteater Natali ja solistid\n14.20 – 14.40 Maria Korepanova (Udmurtia)\n14:40 – 15:00 Alexandra Kremenetsky ja Ara Yaralian\n15:00 – 15:20 Juudi kultuuri selts – ansambel “Ma -s -Ka”\n15:20 – 15:40 Timur Fishel\n15:40 – 16:00 Maria Veretenina ja Stark Rozenthal\n16:00 – 16:15 Tehniline paus\n16:15 – 17:00 Bänd BillyCraft \n\nKorraldajad jätavad endale õiguse programmis muudatusi teha!\n\nKauplejate registreerimine: https://maardu.kovtp.ee/et/uudised-ja-teated/-/asset_publisher/GOSUWtP4XUy9/content/id/31854996?redirect=https%3A%2F%2Fmaardu.kovtp.ee&fbclid=IwAR0s91NvMUUMoTfpWtB7iT497YEcwfDIDBqVe9GTdq8BtPPaVbR3QcaR0OI\n  \n
URL:https://mkik.ee/event/maardu-etnolaat/
END:VEVENT
END:VCALENDAR