BEGIN:VCALENDAR
VERSION:2.0
PRODID:-//Maardu Kultuuri- ja Infokeskus - ECPv4.6.12//NONSGML v1.0//EN
CALSCALE:GREGORIAN
METHOD:PUBLISH
X-WR-CALNAME:Maardu Kultuuri- ja Infokeskus
X-ORIGINAL-URL:https://mkik.ee
X-WR-CALDESC:Events for Maardu Kultuuri- ja Infokeskus
BEGIN:VEVENT
DTSTART;TZID=UTC+3:20240907T100000
DTEND;TZID=UTC+3:20240907T100000
DTSTAMP:20260424T140329
CREATED:20241128T101704Z
LAST-MODIFIED:20241128T102052Z
UID:3073-1725703200-1725703200@mkik.ee
SUMMARY:Maardu etnolaat
DESCRIPTION: \n
URL:https://mkik.ee/event/maardu-etnolaat-3/
CATEGORIES:Event
ATTACH;FMTTYPE=image/jpeg:https://mkik.ee/wp-content/uploads/2024/09/61b1c85304.jpg
END:VEVENT
END:VCALENDAR