BEGIN:VCALENDAR
VERSION:2.0
PRODID:-//Maardu Kultuuri- ja Infokeskus - ECPv4.6.12//NONSGML v1.0//EN
CALSCALE:GREGORIAN
METHOD:PUBLISH
X-WR-CALNAME:Maardu Kultuuri- ja Infokeskus
X-ORIGINAL-URL:https://mkik.ee
X-WR-CALDESC:Events for Maardu Kultuuri- ja Infokeskus
BEGIN:VEVENT
DTSTART;TZID=UTC+3:20200601T110000
DTEND;TZID=UTC+3:20200601T170000
DTSTAMP:20260425T235700
CREATED:20200525T131135Z
LAST-MODIFIED:20200526T083805Z
UID:2280-1591009200-1591030800@mkik.ee
SUMMARY:Maardu e-Lastekaitsepäev
DESCRIPTION: \nMaardu tähistab sel aastal lastekaitsepäeva ONLINE formaadis \nProgramm algab interaktiivse showga “Kutsikapatrull“ TUJU loomingulise meeskonna animaatoritelt. Algus kl 11:00. \nOsalemiseks peab alla laadima ja installima rakenduse Zoom saidilt www.zoom.us oma arvutisse või nutitelefoni AppStore\, Android Market ja Windows Market kaudu. Osalemiseks on vaja veebikaameraga arvutit ja mikrofoni või nutitelefonit. \nJuurdepääs avatakse lingil: https://us02web.zoom.us/j/83831364274 \nKell 14:00 astub veebilavale bänd AROUND THE SUN & INGA. Kontserti saab vaadata Maardu Kultuuri-ja Infokeskuse Facebooki lehel ja keskuse kodulehel www.mkik.ee.\nLastekaitsepäeva programm jätkub kell 14 Maardu Rahvamaja lastekollektiivide  veebikontserdiga.\nProgramm lõpeb laste diskoga veebis\, mis kantakse eetrisse ka Facebookis ja meie kodulehel. Disko algus kell 16:00. \n
URL:https://mkik.ee/event/maardu-e-lastekaitsepaev/
END:VEVENT
END:VCALENDAR