BEGIN:VCALENDAR
VERSION:2.0
PRODID:-//Maardu Kultuuri- ja Infokeskus - ECPv4.6.12//NONSGML v1.0//EN
CALSCALE:GREGORIAN
METHOD:PUBLISH
X-WR-CALNAME:Maardu Kultuuri- ja Infokeskus
X-ORIGINAL-URL:https://mkik.ee
X-WR-CALDESC:Events for Maardu Kultuuri- ja Infokeskus
BEGIN:VEVENT
DTSTART;TZID=UTC+3:20230224T073200
DTEND;TZID=UTC+3:20230224T073200
DTSTAMP:20260424T233652
CREATED:20230214T124228Z
LAST-MODIFIED:20230215T090946Z
UID:2797-1677223920-1677223920@mkik.ee
SUMMARY:Lipu heiskamine
DESCRIPTION: \n
URL:https://mkik.ee/event/lipu-heiskamine/
ATTACH;FMTTYPE=image/jpeg:https://mkik.ee/wp-content/uploads/2023/02/Lipu-heiskamine_180x130mm.jpg
END:VEVENT
END:VCALENDAR